BEGIN:VCALENDAR
VERSION:2.0
PRODID:-//Falkenbergs motorklubb - ECPv6.15.20//NONSGML v1.0//EN
CALSCALE:GREGORIAN
METHOD:PUBLISH
X-ORIGINAL-URL:https://falkenbergsmk.se
X-WR-CALDESC:Händelser för Falkenbergs motorklubb
REFRESH-INTERVAL;VALUE=DURATION:PT1H
X-Robots-Tag:noindex
X-PUBLISHED-TTL:PT1H
BEGIN:VTIMEZONE
TZID:UTC
BEGIN:STANDARD
TZOFFSETFROM:+0000
TZOFFSETTO:+0000
TZNAME:UTC
DTSTART:20250101T000000
END:STANDARD
END:VTIMEZONE
BEGIN:VEVENT
DTSTART;VALUE=DATE:20260729
DTEND;VALUE=DATE:20260730
DTSTAMP:20260420T124905
CREATED:20260325T104642Z
LAST-MODIFIED:20260325T104642Z
UID:6881-1785283200-1785369599@falkenbergsmk.se
SUMMARY:Trafikverket MC-Prov
DESCRIPTION:
URL:https://falkenbergsmk.se/kalender/trafikverket-mc-prov-18/
END:VEVENT
BEGIN:VEVENT
DTSTART;VALUE=DATE:20260730
DTEND;VALUE=DATE:20260731
DTSTAMP:20260420T124905
CREATED:20260325T104705Z
LAST-MODIFIED:20260325T104705Z
UID:6883-1785369600-1785455999@falkenbergsmk.se
SUMMARY:Trafikverket MC-Prov
DESCRIPTION:
URL:https://falkenbergsmk.se/kalender/trafikverket-mc-prov-19/
END:VEVENT
BEGIN:VEVENT
DTSTART;VALUE=DATE:20260803
DTEND;VALUE=DATE:20260804
DTSTAMP:20260420T124905
CREATED:20260325T104743Z
LAST-MODIFIED:20260325T104743Z
UID:6885-1785715200-1785801599@falkenbergsmk.se
SUMMARY:Trafikverket MC-Prov
DESCRIPTION:
URL:https://falkenbergsmk.se/kalender/trafikverket-mc-prov-20/
END:VEVENT
BEGIN:VEVENT
DTSTART;VALUE=DATE:20260804
DTEND;VALUE=DATE:20260805
DTSTAMP:20260420T124905
CREATED:20260311T101322Z
LAST-MODIFIED:20260311T101322Z
UID:6825-1785801600-1785887999@falkenbergsmk.se
SUMMARY:Uthyrt
DESCRIPTION:Blåljus
URL:https://falkenbergsmk.se/kalender/uthyrt-74/
END:VEVENT
BEGIN:VEVENT
DTSTART;VALUE=DATE:20260805
DTEND;VALUE=DATE:20260807
DTSTAMP:20260420T124905
CREATED:20260325T112222Z
LAST-MODIFIED:20260325T112222Z
UID:6933-1785888000-1786060799@falkenbergsmk.se
SUMMARY:Iordningställande inför SM Drifting
DESCRIPTION:
URL:https://falkenbergsmk.se/kalender/iordningstallande-infor-sm-drifting/
END:VEVENT
BEGIN:VEVENT
DTSTART;VALUE=DATE:20260807
DTEND;VALUE=DATE:20260810
DTSTAMP:20260420T124905
CREATED:20260120T113354Z
LAST-MODIFIED:20260120T113354Z
UID:6577-1786060800-1786319999@falkenbergsmk.se
SUMMARY:SM Drifting
DESCRIPTION:Se mer på: Drifting
URL:https://falkenbergsmk.se/kalender/sm-drifting/
END:VEVENT
BEGIN:VEVENT
DTSTART;VALUE=DATE:20260811
DTEND;VALUE=DATE:20260812
DTSTAMP:20260420T124905
CREATED:20260311T101353Z
LAST-MODIFIED:20260311T101353Z
UID:6827-1786406400-1786492799@falkenbergsmk.se
SUMMARY:Uthyrt
DESCRIPTION:Blåljus
URL:https://falkenbergsmk.se/kalender/uthyrt-75/
END:VEVENT
BEGIN:VEVENT
DTSTART;TZID=UTC:20260812T170000
DTEND;TZID=UTC:20260812T200000
DTSTAMP:20260420T124905
CREATED:20260325T112418Z
LAST-MODIFIED:20260325T112418Z
UID:6935-1786554000-1786564800@falkenbergsmk.se
SUMMARY:Testkväll - mer info längre fram
DESCRIPTION:
URL:https://falkenbergsmk.se/kalender/testkvall-mer-info-langre-fram/
END:VEVENT
BEGIN:VEVENT
DTSTART;VALUE=DATE:20260813
DTEND;VALUE=DATE:20260814
DTSTAMP:20260420T124905
CREATED:20260325T104819Z
LAST-MODIFIED:20260325T104819Z
UID:6887-1786579200-1786665599@falkenbergsmk.se
SUMMARY:Trafikverket MC-Prov
DESCRIPTION:
URL:https://falkenbergsmk.se/kalender/trafikverket-mc-prov-21/
END:VEVENT
BEGIN:VEVENT
DTSTART;VALUE=DATE:20260818
DTEND;VALUE=DATE:20260819
DTSTAMP:20260420T124905
CREATED:20260325T104845Z
LAST-MODIFIED:20260325T104845Z
UID:6889-1787011200-1787097599@falkenbergsmk.se
SUMMARY:Trafikverket MC-Prov
DESCRIPTION:
URL:https://falkenbergsmk.se/kalender/trafikverket-mc-prov-22/
END:VEVENT
BEGIN:VEVENT
DTSTART;TZID=UTC:20260819T170000
DTEND;TZID=UTC:20260819T200000
DTSTAMP:20260420T124905
CREATED:20260325T112458Z
LAST-MODIFIED:20260325T112458Z
UID:6937-1787158800-1787169600@falkenbergsmk.se
SUMMARY:Testkväll - mer info längre fram
DESCRIPTION:
URL:https://falkenbergsmk.se/kalender/testkvall-mer-info-langre-fram-2/
END:VEVENT
BEGIN:VEVENT
DTSTART;VALUE=DATE:20260820
DTEND;VALUE=DATE:20260821
DTSTAMP:20260420T124905
CREATED:20260325T112556Z
LAST-MODIFIED:20260325T112556Z
UID:6939-1787184000-1787270399@falkenbergsmk.se
SUMMARY:Uthyrt
DESCRIPTION:Förarutveckling
URL:https://falkenbergsmk.se/kalender/uthyrt/
END:VEVENT
BEGIN:VEVENT
DTSTART;VALUE=DATE:20260821
DTEND;VALUE=DATE:20260822
DTSTAMP:20260420T124905
CREATED:20260325T112623Z
LAST-MODIFIED:20260325T112623Z
UID:6941-1787270400-1787356799@falkenbergsmk.se
SUMMARY:Uthyrt
DESCRIPTION:Förarutveckling
URL:https://falkenbergsmk.se/kalender/uthyrt-2/
END:VEVENT
BEGIN:VEVENT
DTSTART;VALUE=DATE:20260825
DTEND;VALUE=DATE:20260826
DTSTAMP:20260420T124905
CREATED:20260325T104916Z
LAST-MODIFIED:20260325T104916Z
UID:6891-1787616000-1787702399@falkenbergsmk.se
SUMMARY:Trafikverket MC-Prov
DESCRIPTION:
URL:https://falkenbergsmk.se/kalender/trafikverket-mc-prov-23/
END:VEVENT
BEGIN:VEVENT
DTSTART;TZID=UTC:20260826T170000
DTEND;TZID=UTC:20260826T200000
DTSTAMP:20260420T124905
CREATED:20260325T112700Z
LAST-MODIFIED:20260325T112700Z
UID:6943-1787763600-1787774400@falkenbergsmk.se
SUMMARY:Testkväll - mer info längre fram
DESCRIPTION:
URL:https://falkenbergsmk.se/kalender/testkvall-mer-info-langre-fram-3/
END:VEVENT
BEGIN:VEVENT
DTSTART;VALUE=DATE:20260901
DTEND;VALUE=DATE:20260902
DTSTAMP:20260420T124905
CREATED:20260325T112734Z
LAST-MODIFIED:20260325T112734Z
UID:6945-1788220800-1788307199@falkenbergsmk.se
SUMMARY:Uthyrt
DESCRIPTION:Blåljus
URL:https://falkenbergsmk.se/kalender/uthyrt-3/
END:VEVENT
BEGIN:VEVENT
DTSTART;VALUE=DATE:20260903
DTEND;VALUE=DATE:20260904
DTSTAMP:20260420T124905
CREATED:20260325T104948Z
LAST-MODIFIED:20260325T104948Z
UID:6893-1788393600-1788479999@falkenbergsmk.se
SUMMARY:Trafikverket MC-Prov
DESCRIPTION:
URL:https://falkenbergsmk.se/kalender/trafikverket-mc-prov-24/
END:VEVENT
BEGIN:VEVENT
DTSTART;TZID=UTC:20260903T160000
DTEND;TZID=UTC:20260903T190000
DTSTAMP:20260420T124905
CREATED:20260325T112822Z
LAST-MODIFIED:20260325T112822Z
UID:6947-1788451200-1788462000@falkenbergsmk.se
SUMMARY:Uthyrt
DESCRIPTION:Höstrusket
URL:https://falkenbergsmk.se/kalender/uthyrt-4/
END:VEVENT
BEGIN:VEVENT
DTSTART;VALUE=DATE:20260907
DTEND;VALUE=DATE:20260908
DTSTAMP:20260420T124905
CREATED:20260325T105016Z
LAST-MODIFIED:20260325T105016Z
UID:6895-1788739200-1788825599@falkenbergsmk.se
SUMMARY:Trafikverket MC-Prov
DESCRIPTION:
URL:https://falkenbergsmk.se/kalender/trafikverket-mc-prov-25/
END:VEVENT
BEGIN:VEVENT
DTSTART;VALUE=DATE:20260908
DTEND;VALUE=DATE:20260911
DTSTAMP:20260420T124905
CREATED:20260325T112942Z
LAST-MODIFIED:20260325T112942Z
UID:6949-1788825600-1789084799@falkenbergsmk.se
SUMMARY:Uthyrt
DESCRIPTION:Blåljus
URL:https://falkenbergsmk.se/kalender/uthyrt-5/
END:VEVENT
BEGIN:VEVENT
DTSTART;VALUE=DATE:20260911
DTEND;VALUE=DATE:20260912
DTSTAMP:20260420T124905
CREATED:20260325T113018Z
LAST-MODIFIED:20260325T113018Z
UID:6951-1789084800-1789171199@falkenbergsmk.se
SUMMARY:Uthyrt
DESCRIPTION:Förarutveckling
URL:https://falkenbergsmk.se/kalender/uthyrt-31/
END:VEVENT
BEGIN:VEVENT
DTSTART;VALUE=DATE:20260913
DTEND;VALUE=DATE:20260914
DTSTAMP:20260420T124905
CREATED:20260325T113051Z
LAST-MODIFIED:20260325T113051Z
UID:6953-1789257600-1789343999@falkenbergsmk.se
SUMMARY:Cykeltävling
DESCRIPTION:
URL:https://falkenbergsmk.se/kalender/cykeltavling/
END:VEVENT
BEGIN:VEVENT
DTSTART;VALUE=DATE:20260914
DTEND;VALUE=DATE:20260915
DTSTAMP:20260420T124905
CREATED:20260325T105051Z
LAST-MODIFIED:20260325T105051Z
UID:6897-1789344000-1789430399@falkenbergsmk.se
SUMMARY:Trafikverket MC-Prov
DESCRIPTION:
URL:https://falkenbergsmk.se/kalender/trafikverket-mc-prov-26/
END:VEVENT
BEGIN:VEVENT
DTSTART;VALUE=DATE:20260915
DTEND;VALUE=DATE:20260918
DTSTAMP:20260420T124905
CREATED:20260325T113128Z
LAST-MODIFIED:20260325T113128Z
UID:6955-1789430400-1789689599@falkenbergsmk.se
SUMMARY:Uthyrt
DESCRIPTION:Blåljus
URL:https://falkenbergsmk.se/kalender/uthyrt-32/
END:VEVENT
BEGIN:VEVENT
DTSTART;VALUE=DATE:20260918
DTEND;VALUE=DATE:20260919
DTSTAMP:20260420T124905
CREATED:20260325T105114Z
LAST-MODIFIED:20260325T105114Z
UID:6899-1789689600-1789775999@falkenbergsmk.se
SUMMARY:Trafikverket MC-Prov
DESCRIPTION:
URL:https://falkenbergsmk.se/kalender/trafikverket-mc-prov-27/
END:VEVENT
BEGIN:VEVENT
DTSTART;VALUE=DATE:20260921
DTEND;VALUE=DATE:20260922
DTSTAMP:20260420T124905
CREATED:20260325T105141Z
LAST-MODIFIED:20260325T105141Z
UID:6901-1789948800-1790035199@falkenbergsmk.se
SUMMARY:Trafikverket MC-Prov
DESCRIPTION:
URL:https://falkenbergsmk.se/kalender/trafikverket-mc-prov-28/
END:VEVENT
BEGIN:VEVENT
DTSTART;VALUE=DATE:20260922
DTEND;VALUE=DATE:20260923
DTSTAMP:20260420T124905
CREATED:20260325T105200Z
LAST-MODIFIED:20260325T105200Z
UID:6903-1790035200-1790121599@falkenbergsmk.se
SUMMARY:Trafikverket MC-Prov
DESCRIPTION:
URL:https://falkenbergsmk.se/kalender/trafikverket-mc-prov-29/
END:VEVENT
BEGIN:VEVENT
DTSTART;VALUE=DATE:20260923
DTEND;VALUE=DATE:20260925
DTSTAMP:20260420T124905
CREATED:20260325T113233Z
LAST-MODIFIED:20260325T113233Z
UID:6957-1790121600-1790294399@falkenbergsmk.se
SUMMARY:Iordningställande inför Classic
DESCRIPTION:
URL:https://falkenbergsmk.se/kalender/iordningstallande-infor-classic/
END:VEVENT
BEGIN:VEVENT
DTSTART;VALUE=DATE:20260925
DTEND;VALUE=DATE:20260928
DTSTAMP:20260420T124905
CREATED:20260120T113517Z
LAST-MODIFIED:20260120T113517Z
UID:6579-1790294400-1790553599@falkenbergsmk.se
SUMMARY:Falkenberg Classic
DESCRIPTION:Se mer på: Classic
URL:https://falkenbergsmk.se/kalender/falkenberg-classic-2/
END:VEVENT
BEGIN:VEVENT
DTSTART;VALUE=DATE:20260928
DTEND;VALUE=DATE:20260929
DTSTAMP:20260420T124905
CREATED:20260325T113403Z
LAST-MODIFIED:20260325T113403Z
UID:6959-1790553600-1790639999@falkenbergsmk.se
SUMMARY:Iordningställande efter Classic
DESCRIPTION:
URL:https://falkenbergsmk.se/kalender/iordningstallande-efter-classic/
END:VEVENT
END:VCALENDAR