BEGIN:VCALENDAR
VERSION:2.0
PRODID:-//Falkenbergs motorklubb - ECPv6.15.20//NONSGML v1.0//EN
CALSCALE:GREGORIAN
METHOD:PUBLISH
X-WR-CALNAME:Falkenbergs motorklubb
X-ORIGINAL-URL:https://falkenbergsmk.se
X-WR-CALDESC:Händelser för Falkenbergs motorklubb
REFRESH-INTERVAL;VALUE=DURATION:PT1H
X-Robots-Tag:noindex
X-PUBLISHED-TTL:PT1H
BEGIN:VTIMEZONE
TZID:UTC
BEGIN:STANDARD
TZOFFSETFROM:+0000
TZOFFSETTO:+0000
TZNAME:UTC
DTSTART:20250101T000000
END:STANDARD
END:VTIMEZONE
BEGIN:VEVENT
DTSTART;VALUE=DATE:20261113
DTEND;VALUE=DATE:20261114
DTSTAMP:20260420T172609
CREATED:20260325T113853Z
LAST-MODIFIED:20260325T113853Z
UID:6973-1794528000-1794614399@falkenbergsmk.se
SUMMARY:Uthyrt
DESCRIPTION:Blåljus
URL:https://falkenbergsmk.se/kalender/uthyrt-40/
END:VEVENT
BEGIN:VEVENT
DTSTART;VALUE=DATE:20261118
DTEND;VALUE=DATE:20261119
DTSTAMP:20260420T172609
CREATED:20260325T113922Z
LAST-MODIFIED:20260325T113922Z
UID:6975-1794960000-1795046399@falkenbergsmk.se
SUMMARY:Uthyrt
DESCRIPTION:Blåljus
URL:https://falkenbergsmk.se/kalender/uthyrt-41/
END:VEVENT
BEGIN:VEVENT
DTSTART;VALUE=DATE:20261224
DTEND;VALUE=DATE:20270107
DTSTAMP:20260420T172609
CREATED:20260325T114147Z
LAST-MODIFIED:20260325T114147Z
UID:6977-1798070400-1799279999@falkenbergsmk.se
SUMMARY:God Jul & Gott Nytt År!
DESCRIPTION:
URL:https://falkenbergsmk.se/kalender/god-jul-gott-nytt-ar/
END:VEVENT
END:VCALENDAR