BEGIN:VCALENDAR
VERSION:2.0
PRODID:-//Falkenbergs motorklubb - ECPv6.15.20//NONSGML v1.0//EN
CALSCALE:GREGORIAN
METHOD:PUBLISH
X-ORIGINAL-URL:https://falkenbergsmk.se
X-WR-CALDESC:Händelser för Falkenbergs motorklubb
REFRESH-INTERVAL;VALUE=DURATION:PT1H
X-Robots-Tag:noindex
X-PUBLISHED-TTL:PT1H
BEGIN:VTIMEZONE
TZID:UTC
BEGIN:STANDARD
TZOFFSETFROM:+0000
TZOFFSETTO:+0000
TZNAME:UTC
DTSTART:20250101T000000
END:STANDARD
END:VTIMEZONE
BEGIN:VEVENT
DTSTART;VALUE=DATE:20260613
DTEND;VALUE=DATE:20260614
DTSTAMP:20260420T063701
CREATED:20260120T111814Z
LAST-MODIFIED:20260120T111814Z
UID:6562-1781308800-1781395199@falkenbergsmk.se
SUMMARY:NE1
DESCRIPTION:Långlopp bil
URL:https://falkenbergsmk.se/kalender/ne1/
END:VEVENT
END:VCALENDAR