BEGIN:VCALENDAR
VERSION:2.0
PRODID:-//Falkenbergs motorklubb - ECPv6.15.20//NONSGML v1.0//EN
CALSCALE:GREGORIAN
METHOD:PUBLISH
X-WR-CALNAME:Falkenbergs motorklubb
X-ORIGINAL-URL:https://falkenbergsmk.se
X-WR-CALDESC:Händelser för Falkenbergs motorklubb
REFRESH-INTERVAL;VALUE=DURATION:PT1H
X-Robots-Tag:noindex
X-PUBLISHED-TTL:PT1H
BEGIN:VTIMEZONE
TZID:UTC
BEGIN:STANDARD
TZOFFSETFROM:+0000
TZOFFSETTO:+0000
TZNAME:UTC
DTSTART:20250101T000000
END:STANDARD
END:VTIMEZONE
BEGIN:VEVENT
DTSTART;VALUE=DATE:20260612
DTEND;VALUE=DATE:20260613
DTSTAMP:20260420T063458
CREATED:20260311T101202Z
LAST-MODIFIED:20260311T101202Z
UID:6823-1781222400-1781308799@falkenbergsmk.se
SUMMARY:Testdag
DESCRIPTION:Inför NE1
URL:https://falkenbergsmk.se/kalender/testdag-2/
END:VEVENT
BEGIN:VEVENT
DTSTART;VALUE=DATE:20260612
DTEND;VALUE=DATE:20260613
DTSTAMP:20260420T063458
CREATED:20260325T111129Z
LAST-MODIFIED:20260325T111129Z
UID:6925-1781222400-1781308799@falkenbergsmk.se
SUMMARY:Iordningställande inför NE1
DESCRIPTION:
URL:https://falkenbergsmk.se/kalender/iordningstallande-infor-ne1/
END:VEVENT
END:VCALENDAR