BEGIN:VCALENDAR
VERSION:2.0
PRODID:-//Falkenbergs motorklubb - ECPv6.15.20//NONSGML v1.0//EN
CALSCALE:GREGORIAN
METHOD:PUBLISH
X-WR-CALNAME:Falkenbergs motorklubb
X-ORIGINAL-URL:https://falkenbergsmk.se
X-WR-CALDESC:Händelser för Falkenbergs motorklubb
REFRESH-INTERVAL;VALUE=DURATION:PT1H
X-Robots-Tag:noindex
X-PUBLISHED-TTL:PT1H
BEGIN:VTIMEZONE
TZID:UTC
BEGIN:STANDARD
TZOFFSETFROM:+0000
TZOFFSETTO:+0000
TZNAME:UTC
DTSTART:20250101T000000
END:STANDARD
END:VTIMEZONE
BEGIN:VEVENT
DTSTART;TZID=UTC:20260603T170000
DTEND;TZID=UTC:20260603T200000
DTSTAMP:20260420T063457
CREATED:20251216T120713Z
LAST-MODIFIED:20251216T120949Z
UID:6457-1780506000-1780516800@falkenbergsmk.se
SUMMARY:Testkväll\, licensförare: BIL (ej mc denna kväll)
DESCRIPTION:På motorbanan:\nkl. 17:00 – 20:00: BIL \nPå gokartbanan:\nkl 17:00 – 20:00: GOKART o MINIMOTO \nFörare: Ska inneha giltig licens från SBF eller SVEMO. Personlig utrustning enligt resp regelverk.\nOgiltiga licenser: ”Enkel Bilsport”\, prova-på-licenser eller licenser utfärdade av andra aktörer än Svemo eller SBF är inte godkända på våra testkvällar.\nFordon: Endast raceutrustade fordon. Vagnbok måste inte vara klar\, men fordon har samma krav på testkvällar som på tävlingar.\nVillkor och priser:  Testkväll
URL:https://falkenbergsmk.se/kalender/testkvall-licensforare-bil-ej-mc-denna-kvall-2/
END:VEVENT
END:VCALENDAR