BEGIN:VCALENDAR
VERSION:2.0
PRODID:-//Falkenbergs motorklubb - ECPv6.15.20//NONSGML v1.0//EN
CALSCALE:GREGORIAN
METHOD:PUBLISH
X-WR-CALNAME:Falkenbergs motorklubb
X-ORIGINAL-URL:https://falkenbergsmk.se
X-WR-CALDESC:Händelser för Falkenbergs motorklubb
REFRESH-INTERVAL;VALUE=DURATION:PT1H
X-Robots-Tag:noindex
X-PUBLISHED-TTL:PT1H
BEGIN:VTIMEZONE
TZID:UTC
BEGIN:STANDARD
TZOFFSETFROM:+0000
TZOFFSETTO:+0000
TZNAME:UTC
DTSTART:20250101T000000
END:STANDARD
END:VTIMEZONE
BEGIN:VEVENT
DTSTART;VALUE=DATE:20260521
DTEND;VALUE=DATE:20260522
DTSTAMP:20260420T050500
CREATED:20260311T100832Z
LAST-MODIFIED:20260311T100832Z
UID:6817-1779321600-1779407999@falkenbergsmk.se
SUMMARY:Uthyrt
DESCRIPTION:Blåljus
URL:https://falkenbergsmk.se/kalender/uthyrt-30/
END:VEVENT
BEGIN:VEVENT
DTSTART;VALUE=DATE:20260521
DTEND;VALUE=DATE:20260522
DTSTAMP:20260420T050500
CREATED:20260325T104125Z
LAST-MODIFIED:20260325T104125Z
UID:6861-1779321600-1779407999@falkenbergsmk.se
SUMMARY:Trafikverket MC-Prov
DESCRIPTION:
URL:https://falkenbergsmk.se/kalender/trafikverket-mc-prov-8/
END:VEVENT
END:VCALENDAR