BEGIN:VCALENDAR
VERSION:2.0
PRODID:-//Falkenbergs motorklubb - ECPv6.15.20//NONSGML v1.0//EN
CALSCALE:GREGORIAN
METHOD:PUBLISH
X-ORIGINAL-URL:https://falkenbergsmk.se
X-WR-CALDESC:Händelser för Falkenbergs motorklubb
REFRESH-INTERVAL;VALUE=DURATION:PT1H
X-Robots-Tag:noindex
X-PUBLISHED-TTL:PT1H
BEGIN:VTIMEZONE
TZID:UTC
BEGIN:STANDARD
TZOFFSETFROM:+0000
TZOFFSETTO:+0000
TZNAME:UTC
DTSTART:20250101T000000
END:STANDARD
END:VTIMEZONE
BEGIN:VEVENT
DTSTART;VALUE=DATE:20260428
DTEND;VALUE=DATE:20260429
DTSTAMP:20260419T221458
CREATED:20260325T103919Z
LAST-MODIFIED:20260325T103919Z
UID:6853-1777334400-1777420799@falkenbergsmk.se
SUMMARY:Trafikverket MC-Prov
DESCRIPTION:
URL:https://falkenbergsmk.se/kalender/trafikverket-mc-prov-4/
END:VEVENT
BEGIN:VEVENT
DTSTART;TZID=UTC:20260428T140000
DTEND;TZID=UTC:20260428T180000
DTSTAMP:20260419T221458
CREATED:20251216T132352Z
LAST-MODIFIED:20260120T110927Z
UID:6465-1777384800-1777399200@falkenbergsmk.se
SUMMARY:Licenskurs MC
DESCRIPTION:Se mer på: Utbildningar 2026
URL:https://falkenbergsmk.se/kalender/licenskurs-mc/
END:VEVENT
END:VCALENDAR