BEGIN:VCALENDAR
VERSION:2.0
PRODID:-//Falkenbergs motorklubb - ECPv6.15.20//NONSGML v1.0//EN
CALSCALE:GREGORIAN
METHOD:PUBLISH
X-ORIGINAL-URL:https://falkenbergsmk.se
X-WR-CALDESC:Händelser för Falkenbergs motorklubb
REFRESH-INTERVAL;VALUE=DURATION:PT1H
X-Robots-Tag:noindex
X-PUBLISHED-TTL:PT1H
BEGIN:VTIMEZONE
TZID:UTC
BEGIN:STANDARD
TZOFFSETFROM:+0000
TZOFFSETTO:+0000
TZNAME:UTC
DTSTART:20250101T000000
END:STANDARD
END:VTIMEZONE
BEGIN:VEVENT
DTSTART;VALUE=DATE:20260427
DTEND;VALUE=DATE:20260428
DTSTAMP:20260419T205606
CREATED:20251210T125351Z
LAST-MODIFIED:20251210T125351Z
UID:6372-1777248000-1777334399@falkenbergsmk.se
SUMMARY:Uthyrt
DESCRIPTION:Blåljus
URL:https://falkenbergsmk.se/kalender/uthyrt-20/
END:VEVENT
END:VCALENDAR